BEGIN:VCALENDAR
VERSION:2.0
PRODID:-//Bharat Mata Mandir - ECPv6.9.0//NONSGML v1.0//EN
CALSCALE:GREGORIAN
METHOD:PUBLISH
X-ORIGINAL-URL:https://bharatmatamandir.net
X-WR-CALDESC:Events for Bharat Mata Mandir
REFRESH-INTERVAL;VALUE=DURATION:PT1H
X-Robots-Tag:noindex
X-PUBLISHED-TTL:PT1H
BEGIN:VTIMEZONE
TZID:UTC
BEGIN:STANDARD
TZOFFSETFROM:+0000
TZOFFSETTO:+0000
TZNAME:UTC
DTSTART:20250101T000000
END:STANDARD
END:VTIMEZONE
BEGIN:VEVENT
DTSTART;VALUE=DATE:20250201
DTEND;VALUE=DATE:20250202
DTSTAMP:20260424T085704
CREATED:20250122T081458Z
LAST-MODIFIED:20250122T081712Z
UID:337-1738368000-1738454399@bharatmatamandir.net
SUMMARY:Varad (Til) Chaturthi
DESCRIPTION:
URL:https://bharatmatamandir.net/event/varad-til-chaturthi/
END:VEVENT
BEGIN:VEVENT
DTSTART;VALUE=DATE:20250201
DTEND;VALUE=DATE:20250202
DTSTAMP:20260424T085704
CREATED:20250122T082350Z
LAST-MODIFIED:20250122T082350Z
UID:372-1738368000-1738454399@bharatmatamandir.net
SUMMARY:Panchak
DESCRIPTION:
URL:https://bharatmatamandir.net/event/panchak-2/
END:VEVENT
BEGIN:VEVENT
DTSTART;VALUE=DATE:20250202
DTEND;VALUE=DATE:20250203
DTSTAMP:20260424T085704
CREATED:20250122T081618Z
LAST-MODIFIED:20250122T081717Z
UID:339-1738454400-1738540799@bharatmatamandir.net
SUMMARY:Vasant Pan.\, Saraswati Jayanti
DESCRIPTION:
URL:https://bharatmatamandir.net/event/vasant-pan-saraswati-jayanti/
END:VEVENT
BEGIN:VEVENT
DTSTART;VALUE=DATE:20250203
DTEND;VALUE=DATE:20250204
DTSTAMP:20260424T085704
CREATED:20250122T081954Z
LAST-MODIFIED:20250122T081954Z
UID:349-1738540800-1738627199@bharatmatamandir.net
SUMMARY:Skand Sasthi
DESCRIPTION:
URL:https://bharatmatamandir.net/event/skand-sasthi/
END:VEVENT
BEGIN:VEVENT
DTSTART;VALUE=DATE:20250204
DTEND;VALUE=DATE:20250205
DTSTAMP:20260424T085704
CREATED:20250122T082004Z
LAST-MODIFIED:20250122T082004Z
UID:343-1738627200-1738713599@bharatmatamandir.net
SUMMARY:Rath Saptami
DESCRIPTION:
URL:https://bharatmatamandir.net/event/rath-saptami/
END:VEVENT
BEGIN:VEVENT
DTSTART;VALUE=DATE:20250208
DTEND;VALUE=DATE:20250209
DTSTAMP:20260424T085704
CREATED:20250122T082017Z
LAST-MODIFIED:20250122T082017Z
UID:344-1738972800-1739059199@bharatmatamandir.net
SUMMARY:Jaya Ekadashi
DESCRIPTION:
URL:https://bharatmatamandir.net/event/jaya-ekadashi/
END:VEVENT
BEGIN:VEVENT
DTSTART;VALUE=DATE:20250209
DTEND;VALUE=DATE:20250210
DTSTAMP:20260424T085704
CREATED:20250122T082033Z
LAST-MODIFIED:20250122T082033Z
UID:345-1739059200-1739145599@bharatmatamandir.net
SUMMARY:Pradosh Vrat
DESCRIPTION:
URL:https://bharatmatamandir.net/event/pradosh-vrat/
END:VEVENT
BEGIN:VEVENT
DTSTART;VALUE=DATE:20250211
DTEND;VALUE=DATE:20250212
DTSTAMP:20260424T085704
CREATED:20250122T082051Z
LAST-MODIFIED:20250122T082051Z
UID:346-1739232000-1739318399@bharatmatamandir.net
SUMMARY:Satyanarayan Vrat
DESCRIPTION:
URL:https://bharatmatamandir.net/event/satyanarayan-vrat/
END:VEVENT
BEGIN:VEVENT
DTSTART;VALUE=DATE:20250212
DTEND;VALUE=DATE:20250213
DTSTAMP:20260424T085704
CREATED:20250122T082104Z
LAST-MODIFIED:20250122T082453Z
UID:347-1739318400-1739404799@bharatmatamandir.net
SUMMARY:Phalgun Sankranti\, Purnima
DESCRIPTION:
URL:https://bharatmatamandir.net/event/phalgun-sankranti-purnima/
END:VEVENT
BEGIN:VEVENT
DTSTART;VALUE=DATE:20250215
DTEND;VALUE=DATE:20250216
DTSTAMP:20260424T085704
CREATED:20250122T082119Z
LAST-MODIFIED:20250122T082119Z
UID:348-1739577600-1739663999@bharatmatamandir.net
SUMMARY:Shri Ganesh Chaturthi Vrat
DESCRIPTION:
URL:https://bharatmatamandir.net/event/shri-ganesh-chaturthi-vrat/
END:VEVENT
BEGIN:VEVENT
DTSTART;VALUE=DATE:20250222
DTEND;VALUE=DATE:20250223
DTSTAMP:20260424T085704
CREATED:20250122T082135Z
LAST-MODIFIED:20250122T082135Z
UID:340-1740182400-1740268799@bharatmatamandir.net
SUMMARY:Rishi Dayanand Jayanti
DESCRIPTION:
URL:https://bharatmatamandir.net/event/rishi-dayanand-jayanti/
END:VEVENT
BEGIN:VEVENT
DTSTART;VALUE=DATE:20250223
DTEND;VALUE=DATE:20250224
DTSTAMP:20260424T085704
CREATED:20250122T082147Z
LAST-MODIFIED:20250122T082147Z
UID:341-1740268800-1740355199@bharatmatamandir.net
SUMMARY:Vijaya Ekadashi
DESCRIPTION:
URL:https://bharatmatamandir.net/event/vijaya-ekadashi/
END:VEVENT
BEGIN:VEVENT
DTSTART;VALUE=DATE:20250225
DTEND;VALUE=DATE:20250226
DTSTAMP:20260424T085704
CREATED:20250122T082240Z
LAST-MODIFIED:20250122T082240Z
UID:368-1740441600-1740527999@bharatmatamandir.net
SUMMARY:Mahashivratri Vrat
DESCRIPTION:
URL:https://bharatmatamandir.net/event/mahashivratri-vrat/
END:VEVENT
BEGIN:VEVENT
DTSTART;VALUE=DATE:20250226
DTEND;VALUE=DATE:20250301
DTSTAMP:20260424T085704
CREATED:20250122T082335Z
LAST-MODIFIED:20250122T082335Z
UID:359-1740528000-1740787199@bharatmatamandir.net
SUMMARY:Panchak
DESCRIPTION:
URL:https://bharatmatamandir.net/event/panchak/
END:VEVENT
BEGIN:VEVENT
DTSTART;VALUE=DATE:20250227
DTEND;VALUE=DATE:20250228
DTSTAMP:20260424T085704
CREATED:20250122T082259Z
LAST-MODIFIED:20250122T082259Z
UID:360-1740614400-1740700799@bharatmatamandir.net
SUMMARY:Phalgun Amavasya
DESCRIPTION:
URL:https://bharatmatamandir.net/event/phalgun-amavasya/
END:VEVENT
END:VCALENDAR