BEGIN:VCALENDAR
VERSION:2.0
PRODID:-//Bharat Mata Mandir - ECPv6.9.0//NONSGML v1.0//EN
CALSCALE:GREGORIAN
METHOD:PUBLISH
X-WR-CALNAME:Bharat Mata Mandir
X-ORIGINAL-URL:https://bharatmatamandir.net
X-WR-CALDESC:Events for Bharat Mata Mandir
REFRESH-INTERVAL;VALUE=DURATION:PT1H
X-Robots-Tag:noindex
X-PUBLISHED-TTL:PT1H
BEGIN:VTIMEZONE
TZID:UTC
BEGIN:STANDARD
TZOFFSETFROM:+0000
TZOFFSETTO:+0000
TZNAME:UTC
DTSTART:20250101T000000
END:STANDARD
END:VTIMEZONE
BEGIN:VEVENT
DTSTART;VALUE=DATE:20250512
DTEND;VALUE=DATE:20250513
DTSTAMP:20260423T093152
CREATED:20250123T084307Z
LAST-MODIFIED:20250123T084307Z
UID:457-1747008000-1747094399@bharatmatamandir.net
SUMMARY:Buddh Purnima
DESCRIPTION:
URL:https://bharatmatamandir.net/event/buddh-purnima/
END:VEVENT
END:VCALENDAR