BEGIN:VCALENDAR
VERSION:2.0
PRODID:-//Bharat Mata Mandir - ECPv6.9.0//NONSGML v1.0//EN
CALSCALE:GREGORIAN
METHOD:PUBLISH
X-ORIGINAL-URL:https://bharatmatamandir.net
X-WR-CALDESC:Events for Bharat Mata Mandir
REFRESH-INTERVAL;VALUE=DURATION:PT1H
X-Robots-Tag:noindex
X-PUBLISHED-TTL:PT1H
BEGIN:VTIMEZONE
TZID:UTC
BEGIN:STANDARD
TZOFFSETFROM:+0000
TZOFFSETTO:+0000
TZNAME:UTC
DTSTART:20250101T000000
END:STANDARD
END:VTIMEZONE
BEGIN:VEVENT
DTSTART;VALUE=DATE:20250510
DTEND;VALUE=DATE:20250511
DTSTAMP:20260423T121711
CREATED:20250123T084243Z
LAST-MODIFIED:20250123T084243Z
UID:455-1746835200-1746921599@bharatmatamandir.net
SUMMARY:Nrisingh Jayanti
DESCRIPTION:
URL:https://bharatmatamandir.net/event/nrisingh-jayanti/
END:VEVENT
END:VCALENDAR