BEGIN:VCALENDAR
VERSION:2.0
PRODID:-//Bharat Mata Mandir - ECPv6.9.0//NONSGML v1.0//EN
CALSCALE:GREGORIAN
METHOD:PUBLISH
X-WR-CALNAME:Bharat Mata Mandir
X-ORIGINAL-URL:https://bharatmatamandir.net
X-WR-CALDESC:Events for Bharat Mata Mandir
REFRESH-INTERVAL;VALUE=DURATION:PT1H
X-Robots-Tag:noindex
X-PUBLISHED-TTL:PT1H
BEGIN:VTIMEZONE
TZID:UTC
BEGIN:STANDARD
TZOFFSETFROM:+0000
TZOFFSETTO:+0000
TZNAME:UTC
DTSTART:20250101T000000
END:STANDARD
END:VTIMEZONE
BEGIN:VEVENT
DTSTART;VALUE=DATE:20250314
DTEND;VALUE=DATE:20250315
DTSTAMP:20260424T085459
CREATED:20250122T083039Z
LAST-MODIFIED:20250122T083039Z
UID:367-1741910400-1741996799@bharatmatamandir.net
SUMMARY:Chaitra Sankranti\, Holi
DESCRIPTION:
URL:https://bharatmatamandir.net/event/chaitra-sankranti-holi/
END:VEVENT
END:VCALENDAR