BEGIN:VCALENDAR
VERSION:2.0
PRODID:-//Bharat Mata Mandir - ECPv6.9.0//NONSGML v1.0//EN
CALSCALE:GREGORIAN
METHOD:PUBLISH
X-WR-CALNAME:Bharat Mata Mandir
X-ORIGINAL-URL:https://bharatmatamandir.net
X-WR-CALDESC:Events for Bharat Mata Mandir
REFRESH-INTERVAL;VALUE=DURATION:PT1H
X-Robots-Tag:noindex
X-PUBLISHED-TTL:PT1H
BEGIN:VTIMEZONE
TZID:UTC
BEGIN:STANDARD
TZOFFSETFROM:+0000
TZOFFSETTO:+0000
TZNAME:UTC
DTSTART:20250101T000000
END:STANDARD
END:VTIMEZONE
BEGIN:VEVENT
DTSTART;VALUE=DATE:20250130
DTEND;VALUE=DATE:20250201
DTSTAMP:20260424T103203
CREATED:20250123T084026Z
LAST-MODIFIED:20250123T084026Z
UID:438-1738195200-1738367999@bharatmatamandir.net
SUMMARY:Panchak
DESCRIPTION:
URL:https://bharatmatamandir.net/event/panchak-7/
END:VEVENT
BEGIN:VEVENT
DTSTART;VALUE=DATE:20250131
DTEND;VALUE=DATE:20250201
DTSTAMP:20260424T103203
CREATED:20250123T084000Z
LAST-MODIFIED:20250123T084000Z
UID:437-1738281600-1738367999@bharatmatamandir.net
SUMMARY:Gauri Tritiya
DESCRIPTION:
URL:https://bharatmatamandir.net/event/gauri-tritiya/
END:VEVENT
END:VCALENDAR